BEGIN:VCALENDAR
VERSION:2.0
PRODID:icalendar-ruby
CALSCALE:GREGORIAN
METHOD:PUBLISH
BEGIN:VEVENT
DTSTAMP:20260424T140053Z
UID:186-414201@parishoftyendinaga.com
DTSTART:20260429T123000Z
DTEND:20260429T200000Z
CLASS:PUBLIC
CREATED:20260414T144018
DESCRIPTION:Unable to access building due to toxicity
LAST-MODIFIED:20260414T144018
LOCATION:
SUMMARY:Insect Control
URL;VALUE=URI:https://www.parishoftyendinaga.com/events/insect-control/2026
 -04-29
END:VEVENT
END:VCALENDAR
